BEGIN:VCALENDAR
VERSION:2.0
PRODID:-//eventon.com NONSGML v1.0//EN
CALSCALE:GREGORIAN
METHOD:PUBLISH
BEGIN:VEVENT
UID:69eb55c12be85
DTSTAMP:20260424T113633Z
DTSTART:20260418T150000Z
DTEND:20260418T200000Z
LOCATION:Sunshine House 402 E Holland Ave\,  Alpine\,  TX 79830
SUMMARY:Annual Quilt Show
DESCRIPTION:Desert Sky Quilters of the Big Bend is hosting their Annual Qui
 lt Show! Saturday April 18th from 10am-3pm at the Sunshine House. There wil
 l be vendors and a drawing to win a quilt!\nhttps://visitalpinetx.com/event
 /annual-quilt-show/
URL:https://visitalpinetx.com/event/annual-quilt-show/
END:VEVENT
END:VCALENDAR