BEGIN:VCALENDAR
VERSION:2.0
PRODID:-//eventon.com NONSGML v1.0//EN
CALSCALE:GREGORIAN
METHOD:PUBLISH
BEGIN:VEVENT
UID:69e738e79383e
DTSTAMP:20260421T084423Z
DTSTART:20240307T040000Z
DTEND:20240307T080000Z
LOCATION:Railroad Blues 504 W Holland Ave\,  Alpine\,  TX 79830
SUMMARY:Karaoke at Railroad Blues
DESCRIPTION:Come be the star of the bar for Karaoke at the Railroad Blues!!
  Wednesday nights from 10pm to 2am!!\nhttps://visitalpinetx.com/event/karao
 ke-at-railroad-blues-10/
URL:https://visitalpinetx.com/event/karaoke-at-railroad-blues-10/
END:VEVENT
END:VCALENDAR