BEGIN:VCALENDAR
VERSION:2.0
PRODID:-//eventon.com NONSGML v1.0//EN
CALSCALE:GREGORIAN
METHOD:PUBLISH
BEGIN:VEVENT
UID:69e4d711ee6d2
DTSTAMP:20260419T132225Z
DTSTART:20240725T030000Z
DTEND:20240725T070000Z
LOCATION:Railroad Blues 504 W Holland Ave\,  Alpine\,  TX 79830
SUMMARY:Karaoke at Railroad Blues
DESCRIPTION:Come be the star of the bar for Karaoke at the Railroad Blues!!
  Wednesday nights from 10pm to 2am!!\nhttps://visitalpinetx.com/event/karao
 ke-at-railroad-blues-30/
URL:https://visitalpinetx.com/event/karaoke-at-railroad-blues-30/
END:VEVENT
END:VCALENDAR