BEGIN:VCALENDAR
VERSION:2.0
PRODID:-//eventon.com NONSGML v1.0//EN
CALSCALE:GREGORIAN
METHOD:PUBLISH
BEGIN:VEVENT
UID:69e8c0b89877c
DTSTAMP:20260422T123608Z
DTSTART:20240829T150000Z
DTEND:20240829T160000Z
LOCATION:Alpine Public Library 805 W Avenue E\,  Alpine\,  TX 79830
SUMMARY:Toddler Time
DESCRIPTION:Toddler Time is an early literacy program for children ages 0-5
 . Join us every Thursday morning from 10:00-11:30 am for learning centers\,
   reading\,  songs\,  finger plays\,  and musical movement.\nhttps://visita
 lpinetx.com/event/toddler-time-33/
URL:https://visitalpinetx.com/event/toddler-time-33/
END:VEVENT
END:VCALENDAR