BEGIN:VCALENDAR
VERSION:2.0
PRODID:-//eventon.com NONSGML v1.0//EN
CALSCALE:GREGORIAN
METHOD:PUBLISH
BEGIN:VEVENT
UID:69e8a9f1c5a9a
DTSTAMP:20260422T105857Z
DTSTART:20240820T230000Z
DTEND:20240821T010000Z
LOCATION:Amigo @ Alpine City Place 101 W. Avenue E\,  Alpine\,  TX 79830
SUMMARY:Open Mic at Amigo
DESCRIPTION:Come join in the band or just listen to others! Open Mic Tuesda
 ys at Amigo\,  6pm!\nhttps://visitalpinetx.com/event/open-mic-at-amigo-34/
URL:https://visitalpinetx.com/event/open-mic-at-amigo-34/
END:VEVENT
END:VCALENDAR