BEGIN:VCALENDAR
VERSION:2.0
PRODID:-//eventon.com NONSGML v1.0//EN
CALSCALE:GREGORIAN
METHOD:PUBLISH
BEGIN:VEVENT
UID:69e8c35c0e9c4
DTSTAMP:20260422T124724Z
DTSTART:20240222T020000Z
DTEND:20240222T040000Z
LOCATION:Amigo @ Alpine City Place 101 W. Avenue E\,  Alpine\,  TX 79830
SUMMARY:Late Night Game Night
DESCRIPTION:Enjoy some friendly competition at Late Night Game Night at Ami
 go! Rotating classics and competitions like vintage Nintendo &#8211; Mario 
 Kart &#8211; challenges like Smash Bros &#8211; 1-2 Switch\,  Trivia\,  Jac
 kbox &#038; Free Table Games in the Garage. Wednesdays from 8-10pm at Amigo
  Sports Bar and Restaurant.\nhttps://visitalpinetx.com/event/late-night-gam
 e-night/
URL:https://visitalpinetx.com/event/late-night-game-night/
END:VEVENT
END:VCALENDAR