BEGIN:VCALENDAR
VERSION:2.0
PRODID:-//eventon.com NONSGML v1.0//EN
CALSCALE:GREGORIAN
METHOD:PUBLISH
BEGIN:VEVENT
UID:69e7515f069c9
DTSTAMP:20260421T102847Z
DTSTART:20240101T010000Z
DTEND:20240101T060000Z
LOCATION:The Ritchey 102 East Murphy Ave\,  Alpine\,  TX 79830
SUMMARY:New Year's Eve at The Ritchey
DESCRIPTION:Three bands will entertain New Year&#8217;s Eve at The Ritchey.
  The Swifts will begin at 7pm\,  followed by the Ranger Canyon Band and the
  Latecomers!\nhttps://visitalpinetx.com/event/new-years-eve-at-the-ritchey/
URL:https://visitalpinetx.com/event/new-years-eve-at-the-ritchey/
END:VEVENT
END:VCALENDAR