BEGIN:VCALENDAR
VERSION:2.0
PRODID:-//eventon.com NONSGML v1.0//EN
CALSCALE:GREGORIAN
METHOD:PUBLISH
BEGIN:VEVENT
UID:69e8aaedd2c12
DTSTAMP:20260422T110309Z
DTSTART:20240111T010000Z
DTEND:20240111T030000Z
LOCATION:The Ritchey 102 East Murphy Ave\,  Alpine\,  TX 79830
SUMMARY:10\, 000 Bees
DESCRIPTION:10\, 000 Bees is live at The Ritchey Wednesday January 10th 7pm
 .\nhttps://visitalpinetx.com/event/10000-bees/
URL:https://visitalpinetx.com/event/10000-bees/
END:VEVENT
END:VCALENDAR