BEGIN:VCALENDAR
VERSION:2.0
PRODID:-//eventon.com NONSGML v1.0//EN
CALSCALE:GREGORIAN
METHOD:PUBLISH
BEGIN:VEVENT
UID:69e751ae1aab3
DTSTAMP:20260421T103006Z
DTSTART:20240113T010000Z
DTEND:20240113T030000Z
LOCATION:The Ritchey 102 East Murphy Ave\,  Alpine\,  TX 79830
SUMMARY:Alex Teller
DESCRIPTION:Live at The Ritchey Friday January 12th Alex Teller!\nhttps://v
 isitalpinetx.com/event/alex-teller-2/
URL:https://visitalpinetx.com/event/alex-teller-2/
END:VEVENT
END:VCALENDAR