BEGIN:VCALENDAR
VERSION:2.0
PRODID:-//eventon.com NONSGML v1.0//EN
CALSCALE:GREGORIAN
METHOD:PUBLISH
BEGIN:VEVENT
UID:69e9f2e7a0bd7
DTSTAMP:20260423T102231Z
DTSTART:20240203
DTEND:20240204
LOCATION:
SUMMARY:Wildlife Day in Alpine
DESCRIPTION:Borderland Research Institute and Visit Alpine are happy to bri
 ng you a day all about WILDLIFE!! Take a hike\,  go birding\,  learn about 
 exciting student research and see what wildlife you can find in downtown Al
 pine! The day ends with a FREE screening of the visually stunning film &#82
 20;DEEP IN[..]\nhttps://visitalpinetx.com/event/wildlife-day-in-alpine/
URL:https://visitalpinetx.com/event/wildlife-day-in-alpine/
END:VEVENT
END:VCALENDAR