BEGIN:VCALENDAR
VERSION:2.0
PRODID:-//eventon.com NONSGML v1.0//EN
CALSCALE:GREGORIAN
METHOD:PUBLISH
BEGIN:VEVENT
UID:69e75183205d1
DTSTAMP:20260421T102923Z
DTSTART:20260315T000000Z
DTEND:20260315T020000Z
LOCATION:The Ritchey 102 East Murphy Ave\,  Alpine\,  TX 79830
SUMMARY:Hogan & Moss
DESCRIPTION:Enjoy music from Hogan &amp; Moss Saturday\,  March 14th at The
  Ritchey. 7-9PM\nhttps://visitalpinetx.com/event/old-weird-america-hogan-mo
 ss-4/
URL:https://visitalpinetx.com/event/old-weird-america-hogan-moss-4/
END:VEVENT
END:VCALENDAR