BEGIN:VCALENDAR
VERSION:2.0
PRODID:-//eventon.com NONSGML v1.0//EN
CALSCALE:GREGORIAN
METHOD:PUBLISH
BEGIN:VEVENT
UID:69e8a95a92cf8
DTSTAMP:20260422T105626Z
DTSTART:20240301T010000Z
DTEND:20240301T030000Z
LOCATION:The Ritchey 102 East Murphy Ave\,  Alpine\,  TX 79830
SUMMARY:Wil Cope & Austin Stambaugh
DESCRIPTION:The Ritchey is always bringing great music to Alpine! Thursday 
 February 29th Wil Cope and Austin Stambaugh start at 7pm.\nhttps://visitalp
 inetx.com/event/wil-cope-austin-stambaugh/
URL:https://visitalpinetx.com/event/wil-cope-austin-stambaugh/
END:VEVENT
END:VCALENDAR