BEGIN:VCALENDAR
VERSION:2.0
PRODID:-//eventon.com NONSGML v1.0//EN
CALSCALE:GREGORIAN
METHOD:PUBLISH
BEGIN:VEVENT
UID:69e765e6efa32
DTSTAMP:20260421T115622Z
DTSTART:20240501T000000Z
DTEND:20240501T030000Z
LOCATION:Alcove Social 211 E Holland Ave\,  Alpine\,  TX 79830
SUMMARY:Trivia Tuesday - Movie Night Edition
DESCRIPTION:Don&#8217;t miss Trivia Tuesday! The last Tuesday of the month 
 is a special edition hosted in the Granada Theatre. Tuesday April 30th the 
 theme is Movie Night Edition! Bring your own team or join one when you get 
 there!\nhttps://visitalpinetx.com/event/trivia-tuesday-movie-night-edition/
URL:https://visitalpinetx.com/event/trivia-tuesday-movie-night-edition/
END:VEVENT
END:VCALENDAR