BEGIN:VCALENDAR
VERSION:2.0
PRODID:-//eventon.com NONSGML v1.0//EN
CALSCALE:GREGORIAN
METHOD:PUBLISH
BEGIN:VEVENT
UID:69e7519a9b253
DTSTAMP:20260421T102946Z
DTSTART:20240406T180000Z
DTEND:20240406T210000Z
LOCATION:Visit Alpine Pavilion 106 N 3rd Street\,  Alpine\,  TX 79830
SUMMARY:Alpine Dark Skies Celebration- Save Our Dark Sky
DESCRIPTION:Join us for 2 days of celebrating the amazing night sky here in
  the Big Bend Dark Sky Reserve\,  Friday April 5th and Saturday April 6th.
  Saturday April 6th join us at the Alpine Visitor Center to see how you can
  help save our dark sky! Come anytime from 1-4pm to[..]\nhttps://visitalpin
 etx.com/event/alpine-dark-skies-celebration-save-our-dark-sky/
URL:https://visitalpinetx.com/event/alpine-dark-skies-celebration-save-our-dark-sky/
END:VEVENT
END:VCALENDAR