BEGIN:VCALENDAR
VERSION:2.0
PRODID:-//eventon.com NONSGML v1.0//EN
CALSCALE:GREGORIAN
METHOD:PUBLISH
BEGIN:VEVENT
UID:69e73901df667
DTSTAMP:20260421T084449Z
DTSTART:20240614T230000Z
DTEND:20240615T020000Z
LOCATION:Kokernot Field E. Hendryx Drive\,  Alpine\,   79830
SUMMARY:Alpine Cowboys vs Pecos Bills
DESCRIPTION:Gates open at 5pm!\nhttps://visitalpinetx.com/event/alpine-cowb
 oys-vs-pecos-bills-5/
URL:https://visitalpinetx.com/event/alpine-cowboys-vs-pecos-bills-5/
END:VEVENT
END:VCALENDAR