BEGIN:VCALENDAR
VERSION:2.0
PRODID:-//eventon.com NONSGML v1.0//EN
CALSCALE:GREGORIAN
METHOD:PUBLISH
BEGIN:VEVENT
UID:69e6248c148a6
DTSTAMP:20260420T130516Z
DTSTART:20240624T230000Z
DTEND:20240625T020000Z
LOCATION:Kokernot Field E. Hendryx Drive\,  Alpine\,   79830
SUMMARY:Alpine Cowboys vs Roswell Invaders
DESCRIPTION:Gates open at 5pm!\nhttps://visitalpinetx.com/event/alpine-cowb
 oys-vs-roswell-invaders-2/
URL:https://visitalpinetx.com/event/alpine-cowboys-vs-roswell-invaders-2/
END:VEVENT
END:VCALENDAR