BEGIN:VCALENDAR
VERSION:2.0
PRODID:-//eventon.com NONSGML v1.0//EN
CALSCALE:GREGORIAN
METHOD:PUBLISH
BEGIN:VEVENT
UID:69e77f1555bec
DTSTAMP:20260421T134349Z
DTSTART:20240727T230000Z
DTEND:20240728T020000Z
LOCATION:Kokernot Field E. Hendryx Drive\,  Alpine\,   79830
SUMMARY:Alpine Cowboys vs Pecos Bills
DESCRIPTION:Gates open at 5pm!\nhttps://visitalpinetx.com/event/alpine-cowb
 oys-vs-pecos-bills-9/
URL:https://visitalpinetx.com/event/alpine-cowboys-vs-pecos-bills-9/
END:VEVENT
END:VCALENDAR