BEGIN:VCALENDAR
VERSION:2.0
PRODID:-//eventon.com NONSGML v1.0//EN
CALSCALE:GREGORIAN
METHOD:PUBLISH
BEGIN:VEVENT
UID:69e4caa25a31f
DTSTAMP:20260419T122922Z
DTSTART:20240321T160000Z
DTEND:20240321T190000Z
LOCATION:Emergo Arts Boutique 301 E Holland Ave\,  Alpine\,   79830
SUMMARY:Sedona Knight
DESCRIPTION:Enjoy lunch and live music Thursday and Friday with the Good St
 uff Truck and Cowdog! Sedona Knight provides the music for your listening e
 ntertainment from 11am-2pm! On the patio at Emergo Arts Boutique.\nhttps://
 visitalpinetx.com/event/sedona-knight/
URL:https://visitalpinetx.com/event/sedona-knight/
END:VEVENT
END:VCALENDAR