BEGIN:VCALENDAR
VERSION:2.0
PRODID:-//eventon.com NONSGML v1.0//EN
CALSCALE:GREGORIAN
METHOD:PUBLISH
BEGIN:VEVENT
UID:69e8aa3702318
DTSTAMP:20260422T110007Z
DTSTART:20240330T000000Z
DTEND:20240330T020000Z
LOCATION:The Ritchey 102 East Murphy Ave\,  Alpine\,  TX 79830
SUMMARY:Hall's Last Call
DESCRIPTION:Hall&#8217;s Last Call is live at The Ritchey Friday night! Mus
 ic is at 7pm!\nhttps://visitalpinetx.com/event/halls-last-call-2/
URL:https://visitalpinetx.com/event/halls-last-call-2/
END:VEVENT
END:VCALENDAR