BEGIN:VCALENDAR
VERSION:2.0
PRODID:-//eventon.com NONSGML v1.0//EN
CALSCALE:GREGORIAN
METHOD:PUBLISH
BEGIN:VEVENT
UID:69e7394d7f8ec
DTSTAMP:20260421T084605Z
DTSTART:20240419T230000Z
DTEND:20240419T230000Z
LOCATION:Sul Ross State University 79830 US-90\,  Alpine\,  TX 79830\,  EE. UU.\,  Alpine\,  TX 79830
SUMMARY:Voices en la Frontera Women's Speaker Series
DESCRIPTION:Iris Lopez\,  Founder and Executive Director of &#8220;Mija\,  
 Yes You Can.&#8221; an El Paso non-profit organization that empowers women\
 ,  will be speaking on Friday April 19 at the Espino Conference Center at S
 ul Ross University. “Mija\,  Yes You Can” partners with local K-12 scho
 ols in El Paso to mentor young[..]\nhttps://visitalpinetx.com/event/voices-
 en-la-frontera-womens-speaker-series-2/
URL:https://visitalpinetx.com/event/voices-en-la-frontera-womens-speaker-series-2/
END:VEVENT
END:VCALENDAR