BEGIN:VCALENDAR
VERSION:2.0
PRODID:-//eventon.com NONSGML v1.0//EN
CALSCALE:GREGORIAN
METHOD:PUBLISH
BEGIN:VEVENT
UID:69e796e5b20d2
DTSTAMP:20260421T152525Z
DTSTART:20240704T153000Z
DTEND:20240705T033000Z
LOCATION:Brewster County Courthouse 201 W Avenue E\,  Alpine\,  TX 79830
SUMMARY:Alpine 4th of July
DESCRIPTION:Alpine is having a July 4th Celebration! Things kick off with a
  parade leading to the Brewster County Courthouse. There enjoy local vendor
 s\,  music and a BBQ lunch from the American Legion. Then head to the Cowbo
 ys Baseball game. The night ends with the fireworks show!\nhttps://visitalp
 inetx.com/event/alpine-4th-of-july/
URL:https://visitalpinetx.com/event/alpine-4th-of-july/
END:VEVENT
END:VCALENDAR