BEGIN:VCALENDAR
VERSION:2.0
PRODID:-//eventon.com NONSGML v1.0//EN
CALSCALE:GREGORIAN
METHOD:PUBLISH
BEGIN:VEVENT
UID:69ec9eac8bde3
DTSTAMP:20260425T105956Z
DTSTART:20240217T003000Z
DTEND:20240217T030000Z
LOCATION:Skelton&#039;s Runway 300 Cockrell Street\,  Alpine\,  TX 79830
SUMMARY:Cornhole at Skeltons
DESCRIPTION:The Pine Cornhole is hosting a weekly tournament at Skelton&#82
 17;s Runway. Join the fun every Friday at 6:30pm!\nhttps://visitalpinetx.co
 m/event/cornhole-at-skeltons-7/
URL:https://visitalpinetx.com/event/cornhole-at-skeltons-7/
END:VEVENT
END:VCALENDAR