BEGIN:VCALENDAR
VERSION:2.0
PRODID:-//eventon.com NONSGML v1.0//EN
CALSCALE:GREGORIAN
METHOD:PUBLISH
BEGIN:VEVENT
UID:69e897974bb40
DTSTAMP:20260422T094039Z
DTSTART:20240614T233000Z
DTEND:20240615T020000Z
LOCATION:Skelton&#039;s Runway 300 Cockrell Street\,  Alpine\,  TX 79830
SUMMARY:Cornhole at Skeltons
DESCRIPTION:The Pine Cornhole is hosting a weekly tournament at Skelton&#82
 17;s Runway. Join the fun every Friday at 6:30pm!\nhttps://visitalpinetx.co
 m/event/cornhole-at-skeltons-24/
URL:https://visitalpinetx.com/event/cornhole-at-skeltons-24/
END:VEVENT
END:VCALENDAR