BEGIN:VCALENDAR
VERSION:2.0
PRODID:-//eventon.com NONSGML v1.0//EN
CALSCALE:GREGORIAN
METHOD:PUBLISH
BEGIN:VEVENT
UID:69e8a780b4103
DTSTAMP:20260422T104832Z
DTSTART:20260411T000000Z
DTEND:20260411T020000Z
LOCATION:The Ritchey 102 East Murphy Ave\,  Alpine\,  TX 79830
SUMMARY:Ross Fleming
DESCRIPTION:The Ritchey brings Ross Fleming to the stage Friday night! Musi
 c starts at 7pm!\nhttps://visitalpinetx.com/event/ross-fleming-2/
URL:https://visitalpinetx.com/event/ross-fleming-2/
END:VEVENT
END:VCALENDAR