BEGIN:VCALENDAR
VERSION:2.0
PRODID:-//eventon.com NONSGML v1.0//EN
CALSCALE:GREGORIAN
METHOD:PUBLISH
BEGIN:VEVENT
UID:69e74d159bf6a
DTSTAMP:20260421T101029Z
DTSTART:20240716T200000Z
DTEND:20240716T220000Z
LOCATION:Alpine Public Library 805 W Avenue E\,  Alpine\,  TX 79830
SUMMARY:Adventure Begins- Summer Reading Program
DESCRIPTION:Adventure Begins at Alpine Public Library for the Summer Readin
 g Program! Ages 6-12 are invited to join the fun every Tuesday from 3-5 pm.
  Each session starts with 30 minutes of playful exercise followed by a Pops
 icle break and ends with themed reading and activities.\nhttps://visitalpin
 etx.com/event/adventure-begins-summer-reading-program-6/
URL:https://visitalpinetx.com/event/adventure-begins-summer-reading-program-6/
END:VEVENT
END:VCALENDAR