BEGIN:VCALENDAR
VERSION:2.0
PRODID:-//eventon.com NONSGML v1.0//EN
CALSCALE:GREGORIAN
METHOD:PUBLISH
BEGIN:VEVENT
UID:69e760cc241ce
DTSTAMP:20260421T113436Z
DTSTART:20240622T130000Z
DTEND:20240622T210000Z
LOCATION:Museum of the Big Bend 400 N Harrison St\,  Alpine\,  TX 79832
SUMMARY:Alpine Photo Weekend- Photo Walk & Photo Talks
DESCRIPTION:Museum of the Big Bend hosts opening weekend of Texas Photograp
 hic Society&#8217;s FotoTexas III June 21st and 22nd. Saturday\,  June 22: 
 FREE TO THE PUBLIC Photo Walk &#8211; Join Sarah Vasquez for an outdoor han
 ds-on workshop. Meet at 8:00 am on the new patio of the museum for a walkab
 out.[..]\nhttps://visitalpinetx.com/event/alpine-photo-weekend-photo-walk-p
 hoto-talks/
URL:https://visitalpinetx.com/event/alpine-photo-weekend-photo-walk-photo-talks/
END:VEVENT
END:VCALENDAR