BEGIN:VCALENDAR
VERSION:2.0
PRODID:-//eventon.com NONSGML v1.0//EN
CALSCALE:GREGORIAN
METHOD:PUBLISH
BEGIN:VEVENT
UID:69e7950c95167
DTSTAMP:20260421T151732Z
DTSTART:20250809T000000Z
DTEND:20250809T033000Z
LOCATION:Sul Ross University S.A.L.E. Rodeo Arena 998F HP Alpine\,  Texas\,  Alpine\,   79830
SUMMARY:Big Bend Ranch Rodeo
DESCRIPTION:A full weekend of events at the S.A.L.E. Arena for the Big Bend
  Ranch Rodeo! Friday\,  August 8th\,   7pm Big Bend Ranch Rodeo Performanc
 e. Saturday\,  August 9th\,  11am Youth Rodeo Performance Saturday at 7pm B
 ig Bend Ranch Rodeo Performance. Awards ceremony immediately following.\nht
 tps://visitalpinetx.com/event/big-bend-ranch-rodeo-2/
URL:https://visitalpinetx.com/event/big-bend-ranch-rodeo-2/
END:VEVENT
END:VCALENDAR