BEGIN:VCALENDAR
VERSION:2.0
PRODID:-//eventon.com NONSGML v1.0//EN
CALSCALE:GREGORIAN
METHOD:PUBLISH
BEGIN:VEVENT
UID:69e750f29f6c5
DTSTAMP:20260421T102658Z
DTSTART:20240810T150000Z
DTEND:20240810T170000Z
LOCATION:Skelton&#039;s Runway 300 Cockrell Street\,  Alpine\,  TX 79830
SUMMARY:Coffee & Cars\,  Motors & Bikes
DESCRIPTION:Talented folks with project cars and those with motorcycles tha
 t want to connect with others and a chance to show off their work head to S
 kelton&#8217;s Runway. Coffee &#038; Cars\,  Motors and bikes is the second
  Saturday of the month at 10AM.\nhttps://visitalpinetx.com/event/coffee-car
 s-motors-bikes/
URL:https://visitalpinetx.com/event/coffee-cars-motors-bikes/
END:VEVENT
END:VCALENDAR