BEGIN:VCALENDAR
VERSION:2.0
PRODID:-//eventon.com NONSGML v1.0//EN
CALSCALE:GREGORIAN
METHOD:PUBLISH
BEGIN:VEVENT
UID:69e7352278ef0
DTSTAMP:20260421T082818Z
DTSTART:20240809T220000Z
DTEND:20240810T000000Z
LOCATION:
SUMMARY:Alex Wilkerson - The Ritchey
DESCRIPTION:The Ritchey hosts musician Alex Wilkerson on Friday August 9th!
 \nhttps://visitalpinetx.com/event/alex-wilkerson-the-ritchey/
URL:https://visitalpinetx.com/event/alex-wilkerson-the-ritchey/
END:VEVENT
END:VCALENDAR