BEGIN:VCALENDAR
VERSION:2.0
PRODID:-//eventon.com NONSGML v1.0//EN
CALSCALE:GREGORIAN
METHOD:PUBLISH
BEGIN:VEVENT
UID:69e739394bbcf
DTSTAMP:20260421T084545Z
DTSTART:20250410T230000Z
DTEND:20250411T010000Z
LOCATION:Magical Warehouse 113 E Holland Ave\,  Alpine\,  TX 79830
SUMMARY:Game Night
DESCRIPTION:Join the fun at Game Night every Thursday at Magical Warehouse 
 from 6-8pm!\nhttps://visitalpinetx.com/event/game-night-33/
URL:https://visitalpinetx.com/event/game-night-33/
END:VEVENT
END:VCALENDAR