BEGIN:VCALENDAR
VERSION:2.0
PRODID:-//eventon.com NONSGML v1.0//EN
CALSCALE:GREGORIAN
METHOD:PUBLISH
BEGIN:VEVENT
UID:69e8c0bb0dcc4
DTSTAMP:20260422T123611Z
DTSTART:20250601T230000Z
DTEND:20250602T010000Z
LOCATION:The Ritchey 102 East Murphy Ave\,  Alpine\,  TX 79830
SUMMARY:Blue Cactus
DESCRIPTION:Blue Cactus is live at The Ritchey on Sunday\,  June 1st. Music
  starts at 6pm!\nhttps://visitalpinetx.com/event/blue-cactus/
URL:https://visitalpinetx.com/event/blue-cactus/
END:VEVENT
END:VCALENDAR