BEGIN:VCALENDAR
VERSION:2.0
PRODID:-//eventon.com NONSGML v1.0//EN
CALSCALE:GREGORIAN
METHOD:PUBLISH
BEGIN:VEVENT
UID:69e7393d7f8e0
DTSTAMP:20260421T084549Z
DTSTART:20240901T000000Z
DTEND:20240901T020000Z
LOCATION:The Ritchey 102 East Murphy Ave\,  Alpine\,  TX 79830
SUMMARY:Billy Kiesel
DESCRIPTION:The Ritchey welcomes Billy Kiesel on Saturday August 31st\,  7p
 m!\nhttps://visitalpinetx.com/event/billy-kiesel/
URL:https://visitalpinetx.com/event/billy-kiesel/
END:VEVENT
END:VCALENDAR