BEGIN:VCALENDAR
VERSION:2.0
PRODID:-//eventon.com NONSGML v1.0//EN
CALSCALE:GREGORIAN
METHOD:PUBLISH
BEGIN:VEVENT
UID:69e8aa734e1b0
DTSTAMP:20260422T110107Z
DTSTART:20240928T023000Z
DTEND:20240928T050000Z
LOCATION:Granada Theatre 207 E. Holland Ave.\,  Alpine\,  TX 79830
SUMMARY:Sul Ross Rodeo Afterparty
DESCRIPTION:SR alumni and Texas country music sensation Caden Gillard takes
  the stage at the Granada Theatre\,  9:30pm thru midnight on Friday Septemb
 er 27th. The concert is free and open to the public!\nhttps://visitalpinetx
 .com/event/sul-ross-rodeo-afterparty/
URL:https://visitalpinetx.com/event/sul-ross-rodeo-afterparty/
END:VEVENT
END:VCALENDAR