BEGIN:VCALENDAR
VERSION:2.0
PRODID:-//eventon.com NONSGML v1.0//EN
CALSCALE:GREGORIAN
METHOD:PUBLISH
BEGIN:VEVENT
UID:69e732435e140
DTSTAMP:20260421T081603Z
DTSTART:20250207T010000Z
DTEND:20250207T030000Z
LOCATION:The Ritchey 102 East Murphy Ave\,  Alpine\,  TX 79830
SUMMARY:Ross Bullock
DESCRIPTION:Thursday\,  February 6th\,   Ross Bullock is live at The Ritch
 ey\,  7pm!\nhttps://visitalpinetx.com/event/ross-bullock/
URL:https://visitalpinetx.com/event/ross-bullock/
END:VEVENT
END:VCALENDAR