BEGIN:VCALENDAR
VERSION:2.0
PRODID:-//eventon.com NONSGML v1.0//EN
CALSCALE:GREGORIAN
METHOD:PUBLISH
BEGIN:VEVENT
UID:69e899c911df6
DTSTAMP:20260422T095001Z
DTSTART:20240927T213000Z
DTEND:20240928T043000Z
LOCATION:
SUMMARY:Pre and Post-Game Party @ Skelton's Hanger
DESCRIPTION:Skelton&#8217;s Runway is hosting a pre-game tailgate and post-
 game and Rodeo after party Friday night! The Bucks play at Jackson Field th
 is Friday the 27th. The fun next door at Skelton&#8217;s Hanger starts at 4
 :30PM with DJ Quick. After the football game and the Sul Ross Rodeo head ba
 ck to[..]\nhttps://visitalpinetx.com/event/pre-and-post-game-party-skeltons
 -hanger/
URL:https://visitalpinetx.com/event/pre-and-post-game-party-skeltons-hanger/
END:VEVENT
END:VCALENDAR