BEGIN:VCALENDAR
VERSION:2.0
PRODID:-//eventon.com NONSGML v1.0//EN
CALSCALE:GREGORIAN
METHOD:PUBLISH
BEGIN:VEVENT
UID:69e731c360e10
DTSTAMP:20260421T081355Z
DTSTART:20241011T213000Z
DTEND:20241012T010000Z
LOCATION:American Legion 306 W Sul Ross Ave\,  Alpine\,  TX 79830
SUMMARY:American Legion Fish Fry
DESCRIPTION:The American Legion is holding a Fish Fry on Friday October 11t
 h! Come get a great dinner anytime from 4:30-8pm. You can purchase tickets 
 in advance from the Legion or any memeber. Or get your ticket at the door!\
 nhttps://visitalpinetx.com/event/american-legion-fish-fry/
URL:https://visitalpinetx.com/event/american-legion-fish-fry/
END:VEVENT
END:VCALENDAR