BEGIN:VCALENDAR
VERSION:2.0
PRODID:-//eventon.com NONSGML v1.0//EN
CALSCALE:GREGORIAN
METHOD:PUBLISH
BEGIN:VEVENT
UID:69e5f3ab43157
DTSTAMP:20260420T093643Z
DTSTART:20241019T003000Z
DTEND:20241019T023000Z
LOCATION:SRSU Studio Theatre\,  Francois Art Building 400 N Harrison Street\,  Alpine\,  TX 79830
SUMMARY:Art - Tony Award-winning Comedy
DESCRIPTION:The Sul Ross Theatre Program presents Art by award-winning play
 wright Yasmina Reza. Opening Oct 11 and running weekends through October 27
 \,  Art is a Tony Award-winning comedy about the breakdown of a 15-year fri
 endship between three men. Serge spends a small fortune on a white painting
 \,  a simple act that[..]\nhttps://visitalpinetx.com/event/art-tony-award-w
 inning-comedy-2/
URL:https://visitalpinetx.com/event/art-tony-award-winning-comedy-2/
END:VEVENT
END:VCALENDAR