BEGIN:VCALENDAR
VERSION:2.0
PRODID:-//eventon.com NONSGML v1.0//EN
CALSCALE:GREGORIAN
METHOD:PUBLISH
BEGIN:VEVENT
UID:69e896994fbdf
DTSTAMP:20260422T093625Z
DTSTART:20241014T140000Z
DTEND:20241014T220000Z
LOCATION:Karleen Farm 805 W Fort Davis Ave\,  Alpine\,  TX 79830
SUMMARY:Pick a Flower Bouquet
DESCRIPTION:Karleen Farmstead is hosting fall fun Monday October 14th. Come
  by anytime from 9-5 for you pick bouquets\,  bring a picnic\,  listen to N
 oelle&#8217;s one hour of piano playing (12:30-1:30)\,  enjoy some apple ci
 der and pizzelles\,  and help them name the new baby calf!   U-Pick Bouqu
 ets for $10.00 Farmstand with[..]\nhttps://visitalpinetx.com/event/pick-a-f
 lower-bouquet/
URL:https://visitalpinetx.com/event/pick-a-flower-bouquet/
END:VEVENT
END:VCALENDAR