BEGIN:VCALENDAR
VERSION:2.0
PRODID:-//eventon.com NONSGML v1.0//EN
CALSCALE:GREGORIAN
METHOD:PUBLISH
BEGIN:VEVENT
UID:69e60b837f4a8
DTSTAMP:20260420T111827Z
DTSTART:20241026T200000Z
DTEND:20241026T210000Z
LOCATION:Alpine Public Library 805 W Avenue E\,  Alpine\,  TX 79830
SUMMARY:Pumpkin Pie Contest
DESCRIPTION:Get into the fall spirit with a pumpkin pie contest at Alpine P
 ublic Library! To enter bring a homemade pie to the new teen room\,  the be
 st tasting and best presented will win free admission to the Kishmish Haunt
 ed House. The contest starts October 26th at 3:00 pm\,  judging at[..]\nhtt
 ps://visitalpinetx.com/event/pumpkin-pie-contest/
URL:https://visitalpinetx.com/event/pumpkin-pie-contest/
END:VEVENT
END:VCALENDAR