BEGIN:VCALENDAR
VERSION:2.0
PRODID:-//eventon.com NONSGML v1.0//EN
CALSCALE:GREGORIAN
METHOD:PUBLISH
BEGIN:VEVENT
UID:69e8a91f76a10
DTSTAMP:20260422T105527Z
DTSTART:20241027T230000Z
DTEND:20241028T010000Z
LOCATION:The Ritchey 102 East Murphy Ave\,  Alpine\,  TX 79830
SUMMARY:Melissa Engleman
DESCRIPTION:Melissa Engleman is at The Ritchey on Sunday October 27th\,  fr
 om 6-8PM\nhttps://visitalpinetx.com/event/melissa-engleman/
URL:https://visitalpinetx.com/event/melissa-engleman/
END:VEVENT
END:VCALENDAR