BEGIN:VCALENDAR
VERSION:2.0
PRODID:-//eventon.com NONSGML v1.0//EN
CALSCALE:GREGORIAN
METHOD:PUBLISH
BEGIN:VEVENT
UID:69e9f4ba6e77d
DTSTAMP:20260423T103018Z
DTSTART:20241103T000000Z
DTEND:20241103T020000Z
LOCATION:The Ritchey 102 East Murphy Ave\,  Alpine\,  TX 79830
SUMMARY:Johnny Lloyd at The Ritchey
DESCRIPTION:Johnny Lloyd is live at The Ritchey on Saturday November 2nd 7-
 9PM\nhttps://visitalpinetx.com/event/johnny-lloyd-at-the-ritchey/
URL:https://visitalpinetx.com/event/johnny-lloyd-at-the-ritchey/
END:VEVENT
END:VCALENDAR