BEGIN:VCALENDAR
VERSION:2.0
PRODID:-//eventon.com NONSGML v1.0//EN
CALSCALE:GREGORIAN
METHOD:PUBLISH
BEGIN:VEVENT
UID:69e795d8eeeaf
DTSTAMP:20260421T152056Z
DTSTART:20250215T010000Z
DTEND:20250214T070000Z
LOCATION:American Legion 306 W Sul Ross Ave\,  Alpine\,  TX 79830
SUMMARY:Valentines Day Dance
DESCRIPTION:Join the American Legion for a Valentine&#8217;s Day Dance on F
 riday Feb. 14th. Music by DJ Armando\nhttps://visitalpinetx.com/event/valen
 tines-day-dance/
URL:https://visitalpinetx.com/event/valentines-day-dance/
END:VEVENT
END:VCALENDAR