BEGIN:VCALENDAR
VERSION:2.0
PRODID:-//eventon.com NONSGML v1.0//EN
CALSCALE:GREGORIAN
METHOD:PUBLISH
BEGIN:VEVENT
UID:69ecf506731ef
DTSTAMP:20260425T170822Z
DTSTART:20250201T180000Z
DTEND:20250201T200000Z
LOCATION:Granada Theatre 207 E. Holland Ave.\,  Alpine\,  TX 79830
SUMMARY:Wildlife Weekend Lunch & Learn
DESCRIPTION:Saturday\,  February 1st at Noon! Lunch and Learn at Granada Th
 eatreGet a delicious lunch next door from Alcove Social (be sure to order e
 arly!) and enjoy a series of brief presentations from SRSU Graduate Researc
 h Assistants about ongoing wildlife projects at Borderlands Research Instit
 ute. Shelby Duperier: Distribution of high-elevation owls in[..]\nhttps://
 visitalpinetx.com/event/wildlife-weekend-lunch-learn/
URL:https://visitalpinetx.com/event/wildlife-weekend-lunch-learn/
END:VEVENT
END:VCALENDAR