BEGIN:VCALENDAR
VERSION:2.0
PRODID:-//eventon.com NONSGML v1.0//EN
CALSCALE:GREGORIAN
METHOD:PUBLISH
BEGIN:VEVENT
UID:69e89788e326f
DTSTAMP:20260422T094024Z
DTSTART:20250301T010000Z
DTEND:20250301T030000Z
LOCATION:
SUMMARY:Sherita Perez
DESCRIPTION:Sherita Perez makes a stop at The Ritchey on her Terlingua Fire
  Snake TTour!Friday February 28th at 7pm!\nhttps://visitalpinetx.com/event/
 sherita-perez/
URL:https://visitalpinetx.com/event/sherita-perez/
END:VEVENT
END:VCALENDAR