BEGIN:VCALENDAR
VERSION:2.0
PRODID:-//eventon.com NONSGML v1.0//EN
CALSCALE:GREGORIAN
METHOD:PUBLISH
BEGIN:VEVENT
UID:69e739105d598
DTSTAMP:20260421T084504Z
DTSTART:20250321T230000Z
DTEND:20250322T020000Z
LOCATION:5th Street Gallery 118 N. 5th Street
SUMMARY:Get Lit Opening Reception
DESCRIPTION:5th Street Gallery is holding an opening reception for The John
  Davis Show &#8220;Get Lit&#8221; featuring his incredible world of clay an
 d light. New creations\,  never before seen original pieces.Friday\,  March
  21st\,  6PM!Food\,  drinks and cool vibes\nhttps://visitalpinetx.com/event
 /get-lit-opening-reception/
URL:https://visitalpinetx.com/event/get-lit-opening-reception/
END:VEVENT
END:VCALENDAR