BEGIN:VCALENDAR
VERSION:2.0
PRODID:-//eventon.com NONSGML v1.0//EN
CALSCALE:GREGORIAN
METHOD:PUBLISH
BEGIN:VEVENT
UID:69e4d13a567c8
DTSTAMP:20260419T125730Z
DTSTART:20250417T203000Z
DTEND:20250417T223000Z
LOCATION:Front Street Books 121 E Holland Ave\,  Alpine\,  TX 79830
SUMMARY:Author Meet & Greet
DESCRIPTION:Front Street invites everyone to a meet &amp; greet with Clover
  Stroud Thursday\,  April 17\,  3:30-5:30PM Clover Stroud is a Sunday Times
  bestselling writer\,  journalist and host of her own podcast\,  Tiny Acts 
 of Bravery.Her first book\,  The Wild Other\,  was shortlisted for The Wain
 wright Prize. Her critically acclaimed second[..]\nhttps://visitalpinetx.co
 m/event/author-meet-greet/
URL:https://visitalpinetx.com/event/author-meet-greet/
END:VEVENT
END:VCALENDAR