BEGIN:VCALENDAR
VERSION:2.0
PRODID:-//eventon.com NONSGML v1.0//EN
CALSCALE:GREGORIAN
METHOD:PUBLISH
BEGIN:VEVENT
UID:69e5ef41bfd25
DTSTAMP:20260420T091753Z
DTSTART:20250426T210000Z
DTEND:20250426T223000Z
LOCATION:Brewster County Courthouse 201 W Avenue E\,  Alpine\,  TX 79830
SUMMARY:The SA Blue Cats - Spirits of the West Fest
DESCRIPTION:Spirits of the West Fest music continues Saturday afternoon wit
 h The SA Blue Cats 4pm at the Brewster County Courthouse!You can buy ticket
 s to the festival at the gate!\nhttps://visitalpinetx.com/event/doug-morela
 nd-spirits-of-the-west-fest-2-3-2-2/
URL:https://visitalpinetx.com/event/doug-moreland-spirits-of-the-west-fest-2-3-2-2/
END:VEVENT
END:VCALENDAR