BEGIN:VCALENDAR
VERSION:2.0
PRODID:-//eventon.com NONSGML v1.0//EN
CALSCALE:GREGORIAN
METHOD:PUBLISH
BEGIN:VEVENT
UID:69e8f2351b68b
DTSTAMP:20260422T160717Z
DTSTART:20250526T120000Z
DTEND:20250526T130000Z
LOCATION:Holy Angels Cemetery Old Cemetery Road
SUMMARY:Memorial Day Ceremony
DESCRIPTION:Memorial Day Ceremony presented by Holy Angels Cemetery Associa
 tion Monday\,  May 26th at 7am.\nhttps://visitalpinetx.com/event/memorial-d
 ay-celebration-2/
URL:https://visitalpinetx.com/event/memorial-day-celebration-2/
END:VEVENT
END:VCALENDAR