BEGIN:VCALENDAR
VERSION:2.0
PRODID:-//eventon.com NONSGML v1.0//EN
CALSCALE:GREGORIAN
METHOD:PUBLISH
BEGIN:VEVENT
UID:69e9f4fe29847
DTSTAMP:20260423T103126Z
DTSTART:20250517T140000Z
DTEND:20250517T170000Z
LOCATION:Alpine Public Library 805 W Avenue E\,  Alpine\,  TX 79830
SUMMARY:Community Tree Planting
DESCRIPTION:Community Tree Planting Event for the Patty Manning Pollinator 
 Garden at the Alpine Public Library.Saturday\,  May 17\,  9am to noon Learn
  the basics of planting native trees from native plant expert and landscape
  design as you work to help build this new pollinator garden. What to bring
 : water\,  sunscreen\,  hat\, [..]\nhttps://visitalpinetx.com/event/communi
 ty-tree-planting/
URL:https://visitalpinetx.com/event/community-tree-planting/
END:VEVENT
END:VCALENDAR