BEGIN:VCALENDAR
VERSION:2.0
PRODID:-//eventon.com NONSGML v1.0//EN
CALSCALE:GREGORIAN
METHOD:PUBLISH
BEGIN:VEVENT
UID:69e75144f152a
DTSTAMP:20260421T102820Z
DTSTART:20250513T150000Z
DTEND:20250513T190000Z
LOCATION:
SUMMARY:Author Meet & Greet - Kathi Appelt
DESCRIPTION:Front Street Books is hosting a meet &amp; greet with author Ka
 thi Appelt! Kathi Appelt is a poet\,  author\,  and teacher. She has penned
  more than thirty books for children and young adults. Appelt&#8217;s books
  have won numerous national and state awards. ONCE UPON A CAMEL is perfect 
 for fans[..]\nhttps://visitalpinetx.com/event/author-meet-greet-kathi-appel
 t/
URL:https://visitalpinetx.com/event/author-meet-greet-kathi-appelt/
END:VEVENT
END:VCALENDAR